BEGIN:VCALENDAR
VERSION:2.0
PRODID:-//mba fr devsite - ECPv6.15.12.2//NONSGML v1.0//EN
CALSCALE:GREGORIAN
METHOD:PUBLISH
X-WR-CALNAME:mba fr devsite
X-ORIGINAL-URL:https://hostji.in
X-WR-CALDESC:Events for mba fr devsite
REFRESH-INTERVAL;VALUE=DURATION:PT1H
X-Robots-Tag:noindex
X-PUBLISHED-TTL:PT1H
BEGIN:VTIMEZONE
TZID:Europe/Paris
BEGIN:DAYLIGHT
TZOFFSETFROM:+0100
TZOFFSETTO:+0200
TZNAME:CEST
DTSTART:20240331T010000
END:DAYLIGHT
BEGIN:STANDARD
TZOFFSETFROM:+0200
TZOFFSETTO:+0100
TZNAME:CET
DTSTART:20241027T010000
END:STANDARD
BEGIN:DAYLIGHT
TZOFFSETFROM:+0100
TZOFFSETTO:+0200
TZNAME:CEST
DTSTART:20250330T010000
END:DAYLIGHT
BEGIN:STANDARD
TZOFFSETFROM:+0200
TZOFFSETTO:+0100
TZNAME:CET
DTSTART:20251026T010000
END:STANDARD
BEGIN:DAYLIGHT
TZOFFSETFROM:+0100
TZOFFSETTO:+0200
TZNAME:CEST
DTSTART:20260329T010000
END:DAYLIGHT
BEGIN:STANDARD
TZOFFSETFROM:+0200
TZOFFSETTO:+0100
TZNAME:CET
DTSTART:20261025T010000
END:STANDARD
END:VTIMEZONE
BEGIN:VEVENT
DTSTART;TZID=Europe/Paris:20250715T080000
DTEND;TZID=Europe/Paris:20250717T170000
DTSTAMP:20260415T043518
CREATED:20250710T113246Z
LAST-MODIFIED:20250820T081557Z
UID:1018-1752566400-1752771600@hostji.in
SUMMARY:Botox and Fillers Certification
DESCRIPTION:Explore cutting-edge non-surgical treatments like Ultra C. Lifting for skin rejuvenation\, anti-aging\, and targeted correction. Achieve lasting beauty with safe\, effective solutions tailored for you.
URL:https://hostji.in/event/botox-and-fillers-certification/
CATEGORIES:Training
ATTACH;FMTTYPE=image/png:https://hostji.in/wp-content/uploads/2025/07/Rectangle-53-1.png
END:VEVENT
END:VCALENDAR